BEGIN:VCALENDAR
VERSION:2.0
PRODID:-//Don Disantis Home Page - ECPv6.6.4.2//NONSGML v1.0//EN
CALSCALE:GREGORIAN
METHOD:PUBLISH
X-ORIGINAL-URL:https://www.dondisantis.com
X-WR-CALDESC:Events for Don Disantis Home Page
REFRESH-INTERVAL;VALUE=DURATION:PT1H
X-Robots-Tag:noindex
X-PUBLISHED-TTL:PT1H
BEGIN:VTIMEZONE
TZID:America/Halifax
BEGIN:DAYLIGHT
TZOFFSETFROM:-0400
TZOFFSETTO:-0300
TZNAME:ADT
DTSTART:20140309T060000
END:DAYLIGHT
BEGIN:STANDARD
TZOFFSETFROM:-0300
TZOFFSETTO:-0400
TZNAME:AST
DTSTART:20141102T050000
END:STANDARD
END:VTIMEZONE
BEGIN:VEVENT
DTSTART;TZID=America/Halifax:20141213T003000
DTEND;TZID=America/Halifax:20141213T140000
DTSTAMP:20260420T113803
CREATED:20140724T192307Z
LAST-MODIFIED:20140724T192307Z
UID:372-1418430600-1418479200@www.dondisantis.com
SUMMARY:Galillians Holiday Party - Private
DESCRIPTION:North Olmsted Party Center
URL:https://www.dondisantis.com/event/galillians-holiday-party-private/
LOCATION:North Olmsted Party Center\, 29271 Lorain Road\, North Olmsted\, OH\, 44070\, United States
END:VEVENT
END:VCALENDAR