BEGIN:VCALENDAR
VERSION:2.0
PRODID:-//Don Disantis Home Page - ECPv6.6.4.2//NONSGML v1.0//EN
CALSCALE:GREGORIAN
METHOD:PUBLISH
X-ORIGINAL-URL:https://www.dondisantis.com
X-WR-CALDESC:Events for Don Disantis Home Page
REFRESH-INTERVAL;VALUE=DURATION:PT1H
X-Robots-Tag:noindex
X-PUBLISHED-TTL:PT1H
BEGIN:VTIMEZONE
TZID:America/Halifax
BEGIN:DAYLIGHT
TZOFFSETFROM:-0400
TZOFFSETTO:-0300
TZNAME:ADT
DTSTART:20190310T060000
END:DAYLIGHT
BEGIN:STANDARD
TZOFFSETFROM:-0300
TZOFFSETTO:-0400
TZNAME:AST
DTSTART:20191103T050000
END:STANDARD
END:VTIMEZONE
BEGIN:VEVENT
DTSTART;TZID=America/Halifax:20191101T193000
DTEND;TZID=America/Halifax:20191101T223000
DTSTAMP:20260423T022436
CREATED:20191020T152653Z
LAST-MODIFIED:20191020T152653Z
UID:2980-1572636600-1572647400@www.dondisantis.com
SUMMARY:Sapphire Creek - Private Party
DESCRIPTION:`This is a private event.
URL:https://www.dondisantis.com/event/sapphire-creek-private-party/
LOCATION:Sapphire Creek Winery & Gardens\, 16965 Park Circle Drive\, Chagrin Falls\, OH\, 44023\, United States
END:VEVENT
END:VCALENDAR