BEGIN:VCALENDAR
VERSION:2.0
PRODID:-//Don Disantis Home Page - ECPv6.6.4.2//NONSGML v1.0//EN
CALSCALE:GREGORIAN
METHOD:PUBLISH
X-ORIGINAL-URL:https://www.dondisantis.com
X-WR-CALDESC:Events for Don Disantis Home Page
REFRESH-INTERVAL;VALUE=DURATION:PT1H
X-Robots-Tag:noindex
X-PUBLISHED-TTL:PT1H
BEGIN:VTIMEZONE
TZID:America/Halifax
BEGIN:DAYLIGHT
TZOFFSETFROM:-0400
TZOFFSETTO:-0300
TZNAME:ADT
DTSTART:20190310T060000
END:DAYLIGHT
BEGIN:STANDARD
TZOFFSETFROM:-0300
TZOFFSETTO:-0400
TZNAME:AST
DTSTART:20191103T050000
END:STANDARD
END:VTIMEZONE
BEGIN:VEVENT
DTSTART;TZID=America/Halifax:20191227T180000
DTEND;TZID=America/Halifax:20191227T210000
DTSTAMP:20260421T051759
CREATED:20190611T122850Z
LAST-MODIFIED:20191216T170254Z
UID:2711-1577469600-1577480400@www.dondisantis.com
SUMMARY:Marion's Mediterranean
DESCRIPTION:Join us at this lovely wine bar in the heart of Solon. They do not take reservations but the staff is very accommodating and will seat you as soon as possible.
URL:https://www.dondisantis.com/event/swirl-wine-bar-3/
LOCATION:Marion’s Mediterranean\, 7701 Reynolds Road\, Mentor\, OH\, 44060\, United States
END:VEVENT
END:VCALENDAR