BEGIN:VCALENDAR
VERSION:2.0
PRODID:-//Don Disantis Home Page - ECPv6.6.4.2//NONSGML v1.0//EN
CALSCALE:GREGORIAN
METHOD:PUBLISH
X-ORIGINAL-URL:https://www.dondisantis.com
X-WR-CALDESC:Events for Don Disantis Home Page
REFRESH-INTERVAL;VALUE=DURATION:PT1H
X-Robots-Tag:noindex
X-PUBLISHED-TTL:PT1H
BEGIN:VTIMEZONE
TZID:America/Halifax
BEGIN:DAYLIGHT
TZOFFSETFROM:-0400
TZOFFSETTO:-0300
TZNAME:ADT
DTSTART:20200308T060000
END:DAYLIGHT
BEGIN:STANDARD
TZOFFSETFROM:-0300
TZOFFSETTO:-0400
TZNAME:AST
DTSTART:20201101T050000
END:STANDARD
END:VTIMEZONE
BEGIN:VEVENT
DTSTART;TZID=America/Halifax:20200112T153000
DTEND;TZID=America/Halifax:20200112T173000
DTSTAMP:20260420T151040
CREATED:20191229T160757Z
LAST-MODIFIED:20191229T160758Z
UID:3271-1578843000-1578850200@www.dondisantis.com
SUMMARY:BENEFIT CONCERT
DESCRIPTION:Sunday\, January 12\, 2020 from 3:30 to 5:30. Join us for a BENEFIT CONCERT at Willoughby Hills Friends Church located at 2846 Som Center Road in Willoughby Hills. This is a fundraiser concert to assist Ohio victims of human trafficking. Admission is free\, but a “free-will offering” to the Harriet Tubman Movement would be greatly appreciated.\nWe are happy to be a part of this worthy cause and hope you can take the time to participate. We will be the last group to take the stage. Prior to our performance\, enjoy Pieces of Eight\, Dan McCoy\, InCahoots\, Prince of Peace Music Ministry and Diane Palmer. We look forward to seeing you there
URL:https://www.dondisantis.com/event/benefit-concert/
LOCATION:Willoughby Hills Friends Church\, 2846 Som Center Road\, Willoughby Hills\, OH\, 44094\, United States
END:VEVENT
END:VCALENDAR