BEGIN:VCALENDAR
VERSION:2.0
PRODID:-//Don Disantis Home Page - ECPv6.6.4.2//NONSGML v1.0//EN
CALSCALE:GREGORIAN
METHOD:PUBLISH
X-ORIGINAL-URL:https://www.dondisantis.com
X-WR-CALDESC:Events for Don Disantis Home Page
REFRESH-INTERVAL;VALUE=DURATION:PT1H
X-Robots-Tag:noindex
X-PUBLISHED-TTL:PT1H
BEGIN:VTIMEZONE
TZID:America/Halifax
BEGIN:DAYLIGHT
TZOFFSETFROM:-0400
TZOFFSETTO:-0300
TZNAME:ADT
DTSTART:20200308T060000
END:DAYLIGHT
BEGIN:STANDARD
TZOFFSETFROM:-0300
TZOFFSETTO:-0400
TZNAME:AST
DTSTART:20201101T050000
END:STANDARD
END:VTIMEZONE
BEGIN:VEVENT
DTSTART;TZID=America/Halifax:20200805T190000
DTEND;TZID=America/Halifax:20200805T203000
DTSTAMP:20260420T032011
CREATED:20200221T155219Z
LAST-MODIFIED:20200221T155219Z
UID:3996-1596654000-1596659400@www.dondisantis.com
SUMMARY:Saybrook Township - Ashtabula
DESCRIPTION:Happy to once again be back at this beautiful setting on the shores of Lake Erie. Bring a blanket or lawn chair and enjoy some good music and a beautiful view. There is a concession stand on site\, so bring an appetite\, too!
URL:https://www.dondisantis.com/event/saybrook-township-ashtabula/
LOCATION:Saybrook Township Park\, 5941 Lake Road\, Ashtabula\, OH\, 44004\, United States
END:VEVENT
END:VCALENDAR