BEGIN:VCALENDAR
VERSION:2.0
PRODID:-//Don Disantis Home Page - ECPv6.6.4.2//NONSGML v1.0//EN
CALSCALE:GREGORIAN
METHOD:PUBLISH
X-WR-CALNAME:Don Disantis Home Page
X-ORIGINAL-URL:https://www.dondisantis.com
X-WR-CALDESC:Events for Don Disantis Home Page
REFRESH-INTERVAL;VALUE=DURATION:PT1H
X-Robots-Tag:noindex
X-PUBLISHED-TTL:PT1H
BEGIN:VTIMEZONE
TZID:America/Halifax
BEGIN:DAYLIGHT
TZOFFSETFROM:-0400
TZOFFSETTO:-0300
TZNAME:ADT
DTSTART:20210314T060000
END:DAYLIGHT
BEGIN:STANDARD
TZOFFSETFROM:-0300
TZOFFSETTO:-0400
TZNAME:AST
DTSTART:20211107T050000
END:STANDARD
END:VTIMEZONE
BEGIN:VEVENT
DTSTART;TZID=America/Halifax:20210808T133000
DTEND;TZID=America/Halifax:20210808T153000
DTSTAMP:20260420T201459
CREATED:20210611T154242Z
LAST-MODIFIED:20210611T154242Z
UID:5725-1628429400-1628436600@www.dondisantis.com
SUMMARY:Private House Party
DESCRIPTION:This is a private event.
URL:https://www.dondisantis.com/event/private-house-party/
LOCATION:OH
END:VEVENT
BEGIN:VEVENT
DTSTART;TZID=America/Halifax:20210808T180000
DTEND;TZID=America/Halifax:20210808T203000
DTSTAMP:20260420T201459
CREATED:20210316T152543Z
LAST-MODIFIED:20210316T152543Z
UID:5428-1628445600-1628454600@www.dondisantis.com
SUMMARY:Parma Heights Gazebo
DESCRIPTION:After missing the 2020 concert due to the shut down\, we are happy to be back with our trio for this outdoor event.
URL:https://www.dondisantis.com/event/parma-heights-gazebo-4/
LOCATION:Parma Heights Gazebo\, 6200 Pearl Road\, Parma Heights\, OH\, United States
END:VEVENT
END:VCALENDAR