BEGIN:VCALENDAR
VERSION:2.0
PRODID:-//Don Disantis Home Page - ECPv6.6.4.2//NONSGML v1.0//EN
CALSCALE:GREGORIAN
METHOD:PUBLISH
X-WR-CALNAME:Don Disantis Home Page
X-ORIGINAL-URL:https://www.dondisantis.com
X-WR-CALDESC:Events for Don Disantis Home Page
REFRESH-INTERVAL;VALUE=DURATION:PT1H
X-Robots-Tag:noindex
X-PUBLISHED-TTL:PT1H
BEGIN:VTIMEZONE
TZID:America/Halifax
BEGIN:DAYLIGHT
TZOFFSETFROM:-0400
TZOFFSETTO:-0300
TZNAME:ADT
DTSTART:20210314T060000
END:DAYLIGHT
BEGIN:STANDARD
TZOFFSETFROM:-0300
TZOFFSETTO:-0400
TZNAME:AST
DTSTART:20211107T050000
END:STANDARD
END:VTIMEZONE
BEGIN:VEVENT
DTSTART;TZID=America/Halifax:20210820T180000
DTEND;TZID=America/Halifax:20210820T200000
DTSTAMP:20260420T233552
CREATED:20210316T152902Z
LAST-MODIFIED:20210316T152902Z
UID:5430-1629482400-1629489600@www.dondisantis.com
SUMMARY:Conneaut D-Day Concert
DESCRIPTION:Of all the things we missed doing last year\, this was on the top of the sorrow list. For 10 years we’ve been part of this patriotic weekend are so looking forward to our return. Join our full group of piano\, bass\, drums\, sax and vocals for this wonderful evening concert on the shores of Lake Erie.
URL:https://www.dondisantis.com/event/conneaut-d-day-concert-3/
LOCATION:Conneaut Gazebo\, 1025 Buffalo Street\, Conneaut\, OH\, 44030\, United States
END:VEVENT
END:VCALENDAR