BEGIN:VCALENDAR
VERSION:2.0
PRODID:-//Don Disantis Home Page - ECPv6.6.4.2//NONSGML v1.0//EN
CALSCALE:GREGORIAN
METHOD:PUBLISH
X-WR-CALNAME:Don Disantis Home Page
X-ORIGINAL-URL:https://www.dondisantis.com
X-WR-CALDESC:Events for Don Disantis Home Page
REFRESH-INTERVAL;VALUE=DURATION:PT1H
X-Robots-Tag:noindex
X-PUBLISHED-TTL:PT1H
BEGIN:VTIMEZONE
TZID:America/Halifax
BEGIN:DAYLIGHT
TZOFFSETFROM:-0400
TZOFFSETTO:-0300
TZNAME:ADT
DTSTART:20220313T060000
END:DAYLIGHT
BEGIN:STANDARD
TZOFFSETFROM:-0300
TZOFFSETTO:-0400
TZNAME:AST
DTSTART:20221106T050000
END:STANDARD
END:VTIMEZONE
BEGIN:VEVENT
DTSTART;TZID=America/Halifax:20221210T183000
DTEND;TZID=America/Halifax:20221210T213000
DTSTAMP:20260420T184414
CREATED:20221112T142402Z
LAST-MODIFIED:20221112T142402Z
UID:7228-1670697000-1670707800@www.dondisantis.com
SUMMARY:Holiday Special at The Red Maple Barn in Warren
DESCRIPTION:Join me and the band as we celebrate the Holiday Season with some classic holiday songs from the song books of Nat King Cole\, Frank Sinatra\, Dean Martin and so many others. This event is sponsored by Moxie Events and tickets for dinner and the show can be purchased through them at ilovemoxieevents.com or\, by calling 330-759-4570. Looking forward to seeing you there to celebrate the season.
URL:https://www.dondisantis.com/event/holiday-special-at-the-red-maple-barn-in-warren/
LOCATION:The Red Maple Barn\, 600 Center St. W\, Warren\, OH\, 44481\, United States
END:VEVENT
END:VCALENDAR