BEGIN:VCALENDAR
VERSION:2.0
PRODID:-//Don Disantis Home Page - ECPv6.6.4.2//NONSGML v1.0//EN
CALSCALE:GREGORIAN
METHOD:PUBLISH
X-WR-CALNAME:Don Disantis Home Page
X-ORIGINAL-URL:https://www.dondisantis.com
X-WR-CALDESC:Events for Don Disantis Home Page
REFRESH-INTERVAL;VALUE=DURATION:PT1H
X-Robots-Tag:noindex
X-PUBLISHED-TTL:PT1H
BEGIN:VTIMEZONE
TZID:America/Halifax
BEGIN:DAYLIGHT
TZOFFSETFROM:-0400
TZOFFSETTO:-0300
TZNAME:ADT
DTSTART:20220313T060000
END:DAYLIGHT
BEGIN:STANDARD
TZOFFSETFROM:-0300
TZOFFSETTO:-0400
TZNAME:AST
DTSTART:20221106T050000
END:STANDARD
BEGIN:DAYLIGHT
TZOFFSETFROM:-0400
TZOFFSETTO:-0300
TZNAME:ADT
DTSTART:20230312T060000
END:DAYLIGHT
BEGIN:STANDARD
TZOFFSETFROM:-0300
TZOFFSETTO:-0400
TZNAME:AST
DTSTART:20231105T050000
END:STANDARD
END:VTIMEZONE
BEGIN:VEVENT
DTSTART;TZID=America/Halifax:20221231T190000
DTEND;TZID=America/Halifax:20230101T000000
DTSTAMP:20260420T201730
CREATED:20221223T154140Z
LAST-MODIFIED:20221223T154140Z
UID:7366-1672513200-1672531200@www.dondisantis.com
SUMMARY:New Year's Eve at the Peter Allan Inn
DESCRIPTION:Our trio of Karin Tooley on keyboard\, Brian Dorr on bass and yours truly on vocals will be at the beautiful Peter Allan Inn\, located in Kinsman\, to bring in the New Year. Although the festivities are planned for 7:00 to 1:00 our trio will be playing from 9:00 to Midnight. For information and reservations call the Peter Allan Inn at 330-355-2100.
URL:https://www.dondisantis.com/event/new-years-eve-at-the-peter-allan-inn/
LOCATION:Peter Allan Inn\, 8581 State Street\, Kinsman\, OH\, 44428\, United States
END:VEVENT
END:VCALENDAR