BEGIN:VCALENDAR
VERSION:2.0
PRODID:-//Don Disantis Home Page - ECPv6.6.4.2//NONSGML v1.0//EN
CALSCALE:GREGORIAN
METHOD:PUBLISH
X-ORIGINAL-URL:https://www.dondisantis.com
X-WR-CALDESC:Events for Don Disantis Home Page
REFRESH-INTERVAL;VALUE=DURATION:PT1H
X-Robots-Tag:noindex
X-PUBLISHED-TTL:PT1H
BEGIN:VTIMEZONE
TZID:UTC
BEGIN:STANDARD
TZOFFSETFROM:+0000
TZOFFSETTO:+0000
TZNAME:UTC
DTSTART:20230101T000000
END:STANDARD
END:VTIMEZONE
BEGIN:VEVENT
DTSTART;TZID=UTC:20230225T170000
DTEND;TZID=UTC:20230225T210000
DTSTAMP:20260422T071959
CREATED:20230122T153939Z
LAST-MODIFIED:20230122T153939Z
UID:7451-1677344400-1677358800@www.dondisantis.com
SUMMARY:Mystery Theater - "How Sweet It Is"
DESCRIPTION:Join our Murder Mystery Troup for this fun filled evening of mayhem with opposing groups fighting over a secret chocolate formula! Before the show\, actors will present a “Cabaret” of songs for your enjoyment followed by the unfolding of the mystery. Cabaret and dinner will be at 5:00 with the show to begin at 6:00. Contact Moxie Events at 330-759-4570 or their Facebook page at ilovemoxieevents for more information and tickets.
URL:https://www.dondisantis.com/event/mystery-theater-how-sweet-it-is/
LOCATION:Red Maple Barn\, 600 Center Street\, Warren\, OH\, 44481\, United States
END:VEVENT
END:VCALENDAR