BEGIN:VCALENDAR
VERSION:2.0
PRODID:-//Don Disantis Home Page - ECPv6.6.4.2//NONSGML v1.0//EN
CALSCALE:GREGORIAN
METHOD:PUBLISH
X-WR-CALNAME:Don Disantis Home Page
X-ORIGINAL-URL:https://www.dondisantis.com
X-WR-CALDESC:Events for Don Disantis Home Page
REFRESH-INTERVAL;VALUE=DURATION:PT1H
X-Robots-Tag:noindex
X-PUBLISHED-TTL:PT1H
BEGIN:VTIMEZONE
TZID:America/Halifax
BEGIN:DAYLIGHT
TZOFFSETFROM:-0400
TZOFFSETTO:-0300
TZNAME:ADT
DTSTART:20230312T060000
END:DAYLIGHT
BEGIN:STANDARD
TZOFFSETFROM:-0300
TZOFFSETTO:-0400
TZNAME:AST
DTSTART:20231105T050000
END:STANDARD
END:VTIMEZONE
BEGIN:VEVENT
DTSTART;TZID=America/Halifax:20231214T190000
DTEND;TZID=America/Halifax:20231214T210000
DTSTAMP:20260421T025216
CREATED:20231114T201110Z
LAST-MODIFIED:20231114T201110Z
UID:8243-1702580400-1702587600@www.dondisantis.com
SUMMARY:Anejo Tequila Joint - Cleveland Flats
DESCRIPTION:Join our mystery troupe for a fun-filled evening with Santa\, his helper and….. Murder!
URL:https://www.dondisantis.com/event/anejo-tequila-joint-cleveland-flats/
LOCATION:Anejo Tequila Join\, 1051 West 10th Street\, Cleveland\, OH\, 44113\, United States
END:VEVENT
END:VCALENDAR