BEGIN:VCALENDAR
VERSION:2.0
PRODID:-//Don Disantis Home Page - ECPv6.6.4.2//NONSGML v1.0//EN
CALSCALE:GREGORIAN
METHOD:PUBLISH
X-ORIGINAL-URL:https://www.dondisantis.com
X-WR-CALDESC:Events for Don Disantis Home Page
REFRESH-INTERVAL;VALUE=DURATION:PT1H
X-Robots-Tag:noindex
X-PUBLISHED-TTL:PT1H
BEGIN:VTIMEZONE
TZID:America/Halifax
BEGIN:DAYLIGHT
TZOFFSETFROM:-0400
TZOFFSETTO:-0300
TZNAME:ADT
DTSTART:20230312T060000
END:DAYLIGHT
BEGIN:STANDARD
TZOFFSETFROM:-0300
TZOFFSETTO:-0400
TZNAME:AST
DTSTART:20231105T050000
END:STANDARD
END:VTIMEZONE
BEGIN:VEVENT
DTSTART;TZID=America/Halifax:20231215T130000
DTEND;TZID=America/Halifax:20231215T140000
DTSTAMP:20260421T102221
CREATED:20230925T185356Z
LAST-MODIFIED:20230925T185356Z
UID:8088-1702645200-1702648800@www.dondisantis.com
SUMMARY:Volunteer Luncheon for Willoughby Senior Center
DESCRIPTION:Private event.
URL:https://www.dondisantis.com/event/volunteer-luncheon-for-willoughby-senior-center/
LOCATION:St. Noel Party Center\, 35200 Chardon Road\, Willoughby \, OH\, 44094\, United States
END:VEVENT
BEGIN:VEVENT
DTSTART;TZID=America/Halifax:20231215T170000
DTEND;TZID=America/Halifax:20231215T200000
DTSTAMP:20260421T102221
CREATED:20230605T155432Z
LAST-MODIFIED:20230605T155432Z
UID:7849-1702659600-1702670400@www.dondisantis.com
SUMMARY:Laurentia Winery
DESCRIPTION:A beautiful chalet awaits you at this classic winery in Madison. Join our trio while you enjoy tasty food preparations combined with excellent wine choices.
URL:https://www.dondisantis.com/event/laurentia-winery-22/
LOCATION:Laurentia Winery\, 4599 S. Madison Road\, Madison\, 44057
END:VEVENT
END:VCALENDAR