BEGIN:VCALENDAR
VERSION:2.0
PRODID:-//Don Disantis Home Page - ECPv6.6.4.2//NONSGML v1.0//EN
CALSCALE:GREGORIAN
METHOD:PUBLISH
X-ORIGINAL-URL:https://www.dondisantis.com
X-WR-CALDESC:Events for Don Disantis Home Page
REFRESH-INTERVAL;VALUE=DURATION:PT1H
X-Robots-Tag:noindex
X-PUBLISHED-TTL:PT1H
BEGIN:VTIMEZONE
TZID:America/Halifax
BEGIN:DAYLIGHT
TZOFFSETFROM:-0400
TZOFFSETTO:-0300
TZNAME:ADT
DTSTART:20250309T060000
END:DAYLIGHT
BEGIN:STANDARD
TZOFFSETFROM:-0300
TZOFFSETTO:-0400
TZNAME:AST
DTSTART:20251102T050000
END:STANDARD
END:VTIMEZONE
BEGIN:VEVENT
DTSTART;TZID=America/Halifax:20250321T180000
DTEND;TZID=America/Halifax:20250321T210000
DTSTAMP:20260420T014745
CREATED:20250215T193557Z
LAST-MODIFIED:20250215T193557Z
UID:9665-1742580000-1742590800@www.dondisantis.com
SUMMARY:Sharon James Cellars
DESCRIPTION:Join our trio for some great wine and food pairings at this beautiful winery in Newbery.
URL:https://www.dondisantis.com/event/sharon-james-cellars/
LOCATION:Sharon James Cellars\, 11303 Kinsman Road\, Newbury\, OH\, 44065\, United States
END:VEVENT
END:VCALENDAR