BEGIN:VCALENDAR
VERSION:2.0
PRODID:-//Don Disantis Home Page - ECPv6.6.4.2//NONSGML v1.0//EN
CALSCALE:GREGORIAN
METHOD:PUBLISH
X-ORIGINAL-URL:https://www.dondisantis.com
X-WR-CALDESC:Events for Don Disantis Home Page
REFRESH-INTERVAL;VALUE=DURATION:PT1H
X-Robots-Tag:noindex
X-PUBLISHED-TTL:PT1H
BEGIN:VTIMEZONE
TZID:America/Halifax
BEGIN:DAYLIGHT
TZOFFSETFROM:-0400
TZOFFSETTO:-0300
TZNAME:ADT
DTSTART:20260308T060000
END:DAYLIGHT
BEGIN:STANDARD
TZOFFSETFROM:-0300
TZOFFSETTO:-0400
TZNAME:AST
DTSTART:20261101T050000
END:STANDARD
END:VTIMEZONE
BEGIN:VEVENT
DTSTART;TZID=America/Halifax:20260213T120000
DTEND;TZID=America/Halifax:20260213T140000
DTSTAMP:20260420T045957
CREATED:20251007T143754Z
LAST-MODIFIED:20251007T143754Z
UID:10745-1770984000-1770991200@www.dondisantis.com
SUMMARY:St. Francis of Assisi
DESCRIPTION:This is a private event for the 8th grade class at St. Francis.
URL:https://www.dondisantis.com/event/st-francis-of-assisi/
LOCATION:St. Francis of Assisi\, 6850 Mayfield Road\, Gates Mills\, OH\, 44140\, United States
END:VEVENT
BEGIN:VEVENT
DTSTART;TZID=America/Halifax:20260213T173000
DTEND;TZID=America/Halifax:20260213T203000
DTSTAMP:20260420T045957
CREATED:20251115T171458Z
LAST-MODIFIED:20260119T195938Z
UID:10937-1771003800-1771014600@www.dondisantis.com
SUMMARY:Sausalito Kirtland
DESCRIPTION:Join our trio at this wonderful restaurant in the heart of Kirtland\, Ohio.
URL:https://www.dondisantis.com/event/sausalito-kirtland-3/
LOCATION:Sausalito Kirtland\, 9270 Chillicothe Road\, Kirtland\, OH\, 44094\, United States
END:VEVENT
END:VCALENDAR