BEGIN:VCALENDAR
VERSION:2.0
PRODID:-//Don Disantis Home Page - ECPv6.6.4.2//NONSGML v1.0//EN
CALSCALE:GREGORIAN
METHOD:PUBLISH
X-WR-CALNAME:Don Disantis Home Page
X-ORIGINAL-URL:https://www.dondisantis.com
X-WR-CALDESC:Events for Don Disantis Home Page
REFRESH-INTERVAL;VALUE=DURATION:PT1H
X-Robots-Tag:noindex
X-PUBLISHED-TTL:PT1H
BEGIN:VTIMEZONE
TZID:America/Halifax
BEGIN:DAYLIGHT
TZOFFSETFROM:-0400
TZOFFSETTO:-0300
TZNAME:ADT
DTSTART:20260308T060000
END:DAYLIGHT
BEGIN:STANDARD
TZOFFSETFROM:-0300
TZOFFSETTO:-0400
TZNAME:AST
DTSTART:20261101T050000
END:STANDARD
END:VTIMEZONE
BEGIN:VEVENT
DTSTART;TZID=America/Halifax:20260321T183000
DTEND;TZID=America/Halifax:20260321T213000
DTSTAMP:20260419T221339
CREATED:20260119T200922Z
LAST-MODIFIED:20260119T201333Z
UID:11211-1774117800-1774128600@www.dondisantis.com
SUMMARY:Wickliffe IAC - Mystery Dinner Theater
DESCRIPTION:When the Irish and the Italians get together at a funeral\, what could possibly go wrong!? Get your tickets\, you don’t want to miss this.
URL:https://www.dondisantis.com/event/wickliffe-iac-mystery-dinner-theater/
LOCATION:Trevi Catering\, 29717 Euclid Avenue\, Wickliffe\, 44092\, United States
END:VEVENT
END:VCALENDAR