BEGIN:VCALENDAR
VERSION:2.0
PRODID:-//Don Disantis Home Page - ECPv6.6.4.2//NONSGML v1.0//EN
CALSCALE:GREGORIAN
METHOD:PUBLISH
X-WR-CALNAME:Don Disantis Home Page
X-ORIGINAL-URL:https://www.dondisantis.com
X-WR-CALDESC:Events for Don Disantis Home Page
REFRESH-INTERVAL;VALUE=DURATION:PT1H
X-Robots-Tag:noindex
X-PUBLISHED-TTL:PT1H
BEGIN:VTIMEZONE
TZID:America/Halifax
BEGIN:DAYLIGHT
TZOFFSETFROM:-0400
TZOFFSETTO:-0300
TZNAME:ADT
DTSTART:20260308T060000
END:DAYLIGHT
BEGIN:STANDARD
TZOFFSETFROM:-0300
TZOFFSETTO:-0400
TZNAME:AST
DTSTART:20261101T050000
END:STANDARD
END:VTIMEZONE
BEGIN:VEVENT
DTSTART;TZID=America/Halifax:20260709T183000
DTEND;TZID=America/Halifax:20260709T213000
DTSTAMP:20260423T164248
CREATED:20251219T174706Z
LAST-MODIFIED:20260208T154553Z
UID:11093-1783621800-1783632600@www.dondisantis.com
SUMMARY:Goodtime III - Mystery Show
DESCRIPTION:The Irish and the Italians at a wake! What could possibly go wrong? Join us for an evening mystery cruise and uncover the mystery of “Oh Danny Boy”.
URL:https://www.dondisantis.com/event/goodtime-iii-mystery-show/
LOCATION:Goodtime III\, 825 East 9th Street Pier\, Cleveland\, OH\, 44094\, United States
END:VEVENT
END:VCALENDAR