BEGIN:VCALENDAR
VERSION:2.0
PRODID:-//Don Disantis Home Page - ECPv6.6.4.2//NONSGML v1.0//EN
CALSCALE:GREGORIAN
METHOD:PUBLISH
X-ORIGINAL-URL:https://www.dondisantis.com
X-WR-CALDESC:Events for Don Disantis Home Page
REFRESH-INTERVAL;VALUE=DURATION:PT1H
X-Robots-Tag:noindex
X-PUBLISHED-TTL:PT1H
BEGIN:VTIMEZONE
TZID:America/Halifax
BEGIN:DAYLIGHT
TZOFFSETFROM:-0400
TZOFFSETTO:-0300
TZNAME:ADT
DTSTART:20190310T060000
END:DAYLIGHT
BEGIN:STANDARD
TZOFFSETFROM:-0300
TZOFFSETTO:-0400
TZNAME:AST
DTSTART:20191103T050000
END:STANDARD
END:VTIMEZONE
BEGIN:VEVENT
DTSTART;TZID=America/Halifax:20191018T180000
DTEND;TZID=America/Halifax:20191018T210000
DTSTAMP:20260421T080115
CREATED:20190527T123145Z
LAST-MODIFIED:20190527T123145Z
UID:2653-1571421600-1571432400@www.dondisantis.com
SUMMARY:Laurentia Winery
DESCRIPTION:Join us at this beautiful winery in Madison for some great wine food and music.
URL:https://www.dondisantis.com/event/laurentia-winery-17/
LOCATION:Laurentia Winery\, 4599 S. Madison Road\, Madison\, 44057
END:VEVENT
BEGIN:VEVENT
DTSTART;TZID=America/Halifax:20191019T200000
DTEND;TZID=America/Halifax:20191019T223000
DTSTAMP:20260421T080115
CREATED:20190611T123407Z
LAST-MODIFIED:20190611T123407Z
UID:2713-1571515200-1571524200@www.dondisantis.com
SUMMARY:Bar None
DESCRIPTION:Join our trio of piano\, bass and vocals at this charming Wine – Beer & Spirits Bar located in University Heights.
URL:https://www.dondisantis.com/event/bar-none/
LOCATION:Bar None\, 2179 S. Green Road\, University Heights\, OH\, 44121\, United States
END:VEVENT
BEGIN:VEVENT
DTSTART;TZID=America/Halifax:20191025T190000
DTEND;TZID=America/Halifax:20191025T220000
DTSTAMP:20260421T080115
CREATED:20190527T140844Z
LAST-MODIFIED:20190527T140844Z
UID:2668-1572030000-1572040800@www.dondisantis.com
SUMMARY:Marion's Mediterranean
DESCRIPTION:Join us at this fine restaurant and tapas lounge located in the Holiday Inn on Route 306 in Mentor. Located just off the freeway\, Route 2\, it is an easy location to reach no matter what part of town you come from. We appear on Friday’s from 7:00 to 10:00. We look forward to seeing you there.
URL:https://www.dondisantis.com/event/marions-mediterranean-5/
LOCATION:Marion’s Mediterranean\, 7701 Reynolds Road\, Mentor\, OH\, 44060\, United States
END:VEVENT
END:VCALENDAR