BEGIN:VCALENDAR
VERSION:2.0
PRODID:-//Don Disantis Home Page - ECPv6.6.4.2//NONSGML v1.0//EN
CALSCALE:GREGORIAN
METHOD:PUBLISH
X-WR-CALNAME:Don Disantis Home Page
X-ORIGINAL-URL:https://www.dondisantis.com
X-WR-CALDESC:Events for Don Disantis Home Page
REFRESH-INTERVAL;VALUE=DURATION:PT1H
X-Robots-Tag:noindex
X-PUBLISHED-TTL:PT1H
BEGIN:VTIMEZONE
TZID:America/Halifax
BEGIN:DAYLIGHT
TZOFFSETFROM:-0400
TZOFFSETTO:-0300
TZNAME:ADT
DTSTART:20190310T060000
END:DAYLIGHT
BEGIN:STANDARD
TZOFFSETFROM:-0300
TZOFFSETTO:-0400
TZNAME:AST
DTSTART:20191103T050000
END:STANDARD
END:VTIMEZONE
BEGIN:VEVENT
DTSTART;TZID=America/Halifax:20191101T193000
DTEND;TZID=America/Halifax:20191101T223000
DTSTAMP:20260421T122834
CREATED:20191020T152653Z
LAST-MODIFIED:20191020T152653Z
UID:2980-1572636600-1572647400@www.dondisantis.com
SUMMARY:Sapphire Creek - Private Party
DESCRIPTION:`This is a private event.
URL:https://www.dondisantis.com/event/sapphire-creek-private-party/
LOCATION:Sapphire Creek Winery & Gardens\, 16965 Park Circle Drive\, Chagrin Falls\, OH\, 44023\, United States
END:VEVENT
BEGIN:VEVENT
DTSTART;TZID=America/Halifax:20191102T183000
DTEND;TZID=America/Halifax:20191102T213000
DTSTAMP:20260421T122834
CREATED:20190706T133634Z
LAST-MODIFIED:20191031T184719Z
UID:2807-1572719400-1572730200@www.dondisantis.com
SUMMARY:Guarino's
DESCRIPTION:Join us at this well established restaurant in Cleveland’s historic Little Italy neighborhood. Piano\, bass and vocals await you in their cozy little lounge.
URL:https://www.dondisantis.com/event/guarinos-17/
LOCATION:Guarino’s\,  12309 Mayfield Rd \, Cleveland\, OH\, 440106\, United States
END:VEVENT
BEGIN:VEVENT
DTSTART;TZID=America/Halifax:20191108T140000
DTEND;TZID=America/Halifax:20191108T150000
DTSTAMP:20260421T122834
CREATED:20190822T185517Z
LAST-MODIFIED:20190822T185517Z
UID:2903-1573221600-1573225200@www.dondisantis.com
SUMMARY:Wickliffe Senior Center - Private event
DESCRIPTION:Private event
URL:https://www.dondisantis.com/event/wickliffe-senior-center-private-event/
LOCATION:Wickliffe Community Senior Center\, 900 Worden Rd\, Wickliffe\, OH\, 44092\, United States
END:VEVENT
BEGIN:VEVENT
DTSTART;TZID=America/Halifax:20191108T180000
DTEND;TZID=America/Halifax:20191108T210000
DTSTAMP:20260421T122834
CREATED:20190527T141019Z
LAST-MODIFIED:20191027T145309Z
UID:2670-1573236000-1573246800@www.dondisantis.com
SUMMARY:Marion's Mediterranean
DESCRIPTION:Join us at this fine restaurant and tapas lounge located in the Holiday Inn on Route 306 in Mentor. Located just off the freeway\, Route 2\, it is an easy location to reach no matter what part of town you come from. We appear on Friday’s from 6:00 to 9:00 during the winter months and 7:00 to 10:00 in the warm weather months. We look forward to seeing you there.
URL:https://www.dondisantis.com/event/marions-mediterranean-6/
LOCATION:Marion’s Mediterranean\, 7701 Reynolds Road\, Mentor\, OH\, 44060\, United States
END:VEVENT
BEGIN:VEVENT
DTSTART;TZID=America/Halifax:20191109T170000
DTEND;TZID=America/Halifax:20191109T200000
DTSTAMP:20260421T122834
CREATED:20191107T142636Z
LAST-MODIFIED:20191107T142636Z
UID:3070-1573318800-1573329600@www.dondisantis.com
SUMMARY:Dyer Wedding - Private
DESCRIPTION:Private event at the Music Box Super Club.
URL:https://www.dondisantis.com/event/dyer-wedding-private/
LOCATION:Music Box Supper Club\, 1148 Main Avenue\, Cleveland\, OH\, 44113\, United States
END:VEVENT
BEGIN:VEVENT
DTSTART;TZID=America/Halifax:20191115T180000
DTEND;TZID=America/Halifax:20191115T210000
DTSTAMP:20260421T122834
CREATED:20191027T145919Z
LAST-MODIFIED:20191027T145919Z
UID:3000-1573840800-1573851600@www.dondisantis.com
SUMMARY:Marion's Mediterranean
DESCRIPTION:Join us at this fine restaurant and tapas lounge located in the Holiday Inn on Route 306 in Mentor. Located just off the freeway\, Route 2\, it is an easy location to reach no matter what part of town you come from. We appear on Friday’s from 6:00 to 9:00 during the winter months and 7:00 to 10:00 in the warm weather months. We look forward to seeing you there.
URL:https://www.dondisantis.com/event/marions-mediterranean-7/
LOCATION:Marion’s Mediterranean\, 7701 Reynolds Road\, Mentor\, OH\, 44060\, United States
END:VEVENT
BEGIN:VEVENT
DTSTART;TZID=America/Halifax:20191122T180000
DTEND;TZID=America/Halifax:20191122T210000
DTSTAMP:20260421T122834
CREATED:20191027T150053Z
LAST-MODIFIED:20191027T150053Z
UID:3002-1574445600-1574456400@www.dondisantis.com
SUMMARY:Marion's Mediterranean
DESCRIPTION:Join us at this fine restaurant and tapas lounge located in the Holiday Inn on Route 306 in Mentor. Located just off the freeway\, Route 2\, it is an easy location to reach no matter what part of town you come from. We appear on Friday’s from 6:00 to 9:00 during the winter months and 7:00 to 10:00 in the warm weather months. We look forward to seeing you there.
URL:https://www.dondisantis.com/event/marions-mediterranean-8/
LOCATION:Marion’s Mediterranean\, 7701 Reynolds Road\, Mentor\, OH\, 44060\, United States
END:VEVENT
BEGIN:VEVENT
DTSTART;TZID=America/Halifax:20191123T200000
DTEND;TZID=America/Halifax:20191123T220000
DTSTAMP:20260421T122834
CREATED:20191020T153412Z
LAST-MODIFIED:20191020T153412Z
UID:2982-1574539200-1574546400@www.dondisantis.com
SUMMARY:Gino's Italian Grill - Chesterland
DESCRIPTION:Great food and atmosphere at this charming Italian Grill in the corner of a strip plaza in Chesterland. Come join our three piece group and enjoy some great food\, from pizzas to full course dinners\, while you enjoy the music. We look forward to seeing you there.
URL:https://www.dondisantis.com/event/ginos-italian-grill-chesterland/
LOCATION:Gino’s Itallian Grill\, 8389 Mayfield Road\, Chesterland\, OH\, 44026\, United States
END:VEVENT
BEGIN:VEVENT
DTSTART;TZID=America/Halifax:20191129T180000
DTEND;TZID=America/Halifax:20191129T210000
DTSTAMP:20260421T122834
CREATED:20191027T150258Z
LAST-MODIFIED:20191027T150258Z
UID:3004-1575050400-1575061200@www.dondisantis.com
SUMMARY:Marion's Mediterranean
DESCRIPTION:Join us at this fine restaurant and tapas lounge located in the Holiday Inn on Route 306 in Mentor. Located just off the freeway\, Route 2\, it is an easy location to reach no matter what part of town you come from. We appear on Friday’s from 6:00 to 9:00 during the winter months and 7:00 to 10:00 in the warm weather months. We look forward to seeing you there.
URL:https://www.dondisantis.com/event/marions-mediterranean-9/
LOCATION:Marion’s Mediterranean\, 7701 Reynolds Road\, Mentor\, OH\, 44060\, United States
END:VEVENT
BEGIN:VEVENT
DTSTART;TZID=America/Halifax:20191130T173000
DTEND;TZID=America/Halifax:20191130T210000
DTSTAMP:20260421T122834
CREATED:20191107T143324Z
LAST-MODIFIED:20191107T143324Z
UID:3074-1575135000-1575147600@www.dondisantis.com
SUMMARY:Murder Mystery - "Santa\, You Sleigh Me!"
DESCRIPTION:Join us for a fun evening murder and Santa – what a combination! \nDetails for this event are found on our home page and the Mystery Page. The show will be at the brand new Hampton Inn located at Routes 528 and 90 in Madison.
URL:https://www.dondisantis.com/event/murder-mystery-santa-you-sleigh-me/
LOCATION:Hampton Inn – Madison\, 171 Water Tower Drive\, Madison\, OH\, 44057\, United States
END:VEVENT
END:VCALENDAR