BEGIN:VCALENDAR
VERSION:2.0
PRODID:-//Don Disantis Home Page - ECPv6.6.4.2//NONSGML v1.0//EN
CALSCALE:GREGORIAN
METHOD:PUBLISH
X-ORIGINAL-URL:https://www.dondisantis.com
X-WR-CALDESC:Events for Don Disantis Home Page
REFRESH-INTERVAL;VALUE=DURATION:PT1H
X-Robots-Tag:noindex
X-PUBLISHED-TTL:PT1H
BEGIN:VTIMEZONE
TZID:America/Halifax
BEGIN:DAYLIGHT
TZOFFSETFROM:-0400
TZOFFSETTO:-0300
TZNAME:ADT
DTSTART:20200308T060000
END:DAYLIGHT
BEGIN:STANDARD
TZOFFSETFROM:-0300
TZOFFSETTO:-0400
TZNAME:AST
DTSTART:20201101T050000
END:STANDARD
END:VTIMEZONE
BEGIN:VEVENT
DTSTART;TZID=America/Halifax:20200201T200000
DTEND;TZID=America/Halifax:20200201T223000
DTSTAMP:20260419T222027
CREATED:20191020T151747Z
LAST-MODIFIED:20191020T151747Z
UID:2978-1580587200-1580596200@www.dondisantis.com
SUMMARY:Bar None
DESCRIPTION:Join our trio of piano\, bass and vocals at this charming Wine – Beer & Spirits Bar located in University Heights. You’ll be impressed with what I like to refer to as the WOW – the Wall Of Wine! If you can’t fine a wine you like here\, you don’t like wine!
URL:https://www.dondisantis.com/event/bar-none-2/
LOCATION:Bar None\, 2179 S. Green Road\, University Heights\, OH\, 44121\, United States
END:VEVENT
BEGIN:VEVENT
DTSTART;TZID=America/Halifax:20200207T180000
DTEND;TZID=America/Halifax:20200207T210000
DTSTAMP:20260419T222027
CREATED:20191027T151637Z
LAST-MODIFIED:20191027T151647Z
UID:3020-1581098400-1581109200@www.dondisantis.com
SUMMARY:Marion's Meditteranean
DESCRIPTION:Join us at this fine restaurant and tapas lounge located in the Holiday Inn on Route 306 in Mentor. Located just off the freeway\, Route 2\, it is an easy location to reach no matter what part of town you come from. We appear on Friday’s from 6:00 to 9:00 during the winter months and 7:00 to 10:00 in the warm weather months. We look forward to seeing you there.
URL:https://www.dondisantis.com/event/marions-meditteranean-3/
LOCATION:Marion’s Mediterranean\, 7701 Reynolds Road\, Mentor\, OH\, 44060\, United States
END:VEVENT
BEGIN:VEVENT
DTSTART;TZID=America/Halifax:20200208T183000
DTEND;TZID=America/Halifax:20200208T213000
DTSTAMP:20260419T222027
CREATED:20191216T174848Z
LAST-MODIFIED:20191216T174848Z
UID:3155-1581186600-1581197400@www.dondisantis.com
SUMMARY:Guarino's - Little Italy
DESCRIPTION:Join us at this well established restaurant in Cleveland’s historic Little Italy neighborhood. Piano\, bass and vocals await you in their cozy little lounge.
URL:https://www.dondisantis.com/event/guarinos-little-italy-9/
LOCATION:Guarino’s\,  12309 Mayfield Rd \, Cleveland\, OH\, 440106\, United States
END:VEVENT
BEGIN:VEVENT
DTSTART;TZID=America/Halifax:20200214T130000
DTEND;TZID=America/Halifax:20200214T140000
DTSTAMP:20260419T222027
CREATED:20190822T185727Z
LAST-MODIFIED:20190829T115148Z
UID:2905-1581685200-1581688800@www.dondisantis.com
SUMMARY:St. Francis of Assisi - Private event
DESCRIPTION:Private event.
URL:https://www.dondisantis.com/event/st-francis-of-assisi-private-event/
LOCATION:St. Francis of Assisi\, 6850 Mayfield Road\, Gates Mills\, OH\, 44140\, United States
END:VEVENT
BEGIN:VEVENT
DTSTART;TZID=America/Halifax:20200214T190000
DTEND;TZID=America/Halifax:20200214T220000
DTSTAMP:20260419T222027
CREATED:20191020T154114Z
LAST-MODIFIED:20191020T154114Z
UID:2990-1581706800-1581717600@www.dondisantis.com
SUMMARY:Speak Of The Devil
DESCRIPTION:Join us for our next appearance at this “Speakeasy” style restaurant/lounge in downtown Lorain. Along with the music\, enjoy some fascinating drink presentations and tasty food samples. This is Valentine Day\, so bring your sweetie and have a sweet time with us!
URL:https://www.dondisantis.com/event/speak-of-the-devil-5/
LOCATION:Speak Of The Devil\, 201 West 5th Street\, Lorain\, OH\, 44052\, United States
END:VEVENT
BEGIN:VEVENT
DTSTART;TZID=America/Halifax:20200221T180000
DTEND;TZID=America/Halifax:20200221T210000
DTSTAMP:20260419T222027
CREATED:20191027T151808Z
LAST-MODIFIED:20191027T151808Z
UID:3022-1582308000-1582318800@www.dondisantis.com
SUMMARY:Marion's Meditteranean
DESCRIPTION:Join us at this fine restaurant and tapas lounge located in the Holiday Inn on Route 306 in Mentor. Located just off the freeway\, Route 2\, it is an easy location to reach no matter what part of town you come from. We appear on Friday’s from 6:00 to 9:00 during the winter months and 7:00 to 10:00 in the warm weather months. We look forward to seeing you there.
URL:https://www.dondisantis.com/event/marions-meditteranean-4/
LOCATION:Marion’s Mediterranean\, 7701 Reynolds Road\, Mentor\, OH\, 44060\, United States
END:VEVENT
BEGIN:VEVENT
DTSTART;TZID=America/Halifax:20200222T200000
DTEND;TZID=America/Halifax:20200222T220000
DTSTAMP:20260419T222027
CREATED:20191216T174433Z
LAST-MODIFIED:20191216T174433Z
UID:3151-1582401600-1582408800@www.dondisantis.com
SUMMARY:Gino's Italian Grill - Chesterland
DESCRIPTION:Great food and atmosphere at this charming Italian Grill in the corner of a strip plaza in Chesterland. Come join our four piece group and enjoy some great food\, from pizzas to full course dinners\, while you enjoy the music. We look forward to seeing you there.
URL:https://www.dondisantis.com/event/ginos-italian-grill-chesterland-3/
LOCATION:Gino’s Itallian Grill\, 8389 Mayfield Road\, Chesterland\, OH\, 44026\, United States
END:VEVENT
BEGIN:VEVENT
DTSTART;TZID=America/Halifax:20200228T180000
DTEND;TZID=America/Halifax:20200228T210000
DTSTAMP:20260419T222027
CREATED:20191027T151939Z
LAST-MODIFIED:20191027T151939Z
UID:3024-1582912800-1582923600@www.dondisantis.com
SUMMARY:Marion's Meditteranean
DESCRIPTION:Join us at this fine restaurant and tapas lounge located in the Holiday Inn on Route 306 in Mentor. Located just off the freeway\, Route 2\, it is an easy location to reach no matter what part of town you come from. We appear on Friday’s from 6:00 to 9:00 during the winter months and 7:00 to 10:00 in the warm weather months. We look forward to seeing you there.
URL:https://www.dondisantis.com/event/marions-meditteranean-5/
LOCATION:Marion’s Mediterranean\, 7701 Reynolds Road\, Mentor\, OH\, 44060\, United States
END:VEVENT
BEGIN:VEVENT
DTSTART;TZID=America/Halifax:20200229T190000
DTEND;TZID=America/Halifax:20200229T220000
DTSTAMP:20260419T222027
CREATED:20200210T165500Z
LAST-MODIFIED:20200210T165500Z
UID:3796-1583002800-1583013600@www.dondisantis.com
SUMMARY:Lakewood Country Club - Private
DESCRIPTION:This is a private event for members of Lakewood Country Club.
URL:https://www.dondisantis.com/event/lakewood-country-club-private/
LOCATION:Lakewood C. C.\, 2613 Bradley Road\, Westlake\, OH\, 44145\, United States
END:VEVENT
END:VCALENDAR