BEGIN:VCALENDAR
VERSION:2.0
PRODID:-//Don Disantis Home Page - ECPv6.6.4.2//NONSGML v1.0//EN
CALSCALE:GREGORIAN
METHOD:PUBLISH
X-WR-CALNAME:Don Disantis Home Page
X-ORIGINAL-URL:https://www.dondisantis.com
X-WR-CALDESC:Events for Don Disantis Home Page
REFRESH-INTERVAL;VALUE=DURATION:PT1H
X-Robots-Tag:noindex
X-PUBLISHED-TTL:PT1H
BEGIN:VTIMEZONE
TZID:America/Halifax
BEGIN:DAYLIGHT
TZOFFSETFROM:-0400
TZOFFSETTO:-0300
TZNAME:ADT
DTSTART:20210314T060000
END:DAYLIGHT
BEGIN:STANDARD
TZOFFSETFROM:-0300
TZOFFSETTO:-0400
TZNAME:AST
DTSTART:20211107T050000
END:STANDARD
END:VTIMEZONE
BEGIN:VEVENT
DTSTART;TZID=America/Halifax:20211204T190000
DTEND;TZID=America/Halifax:20211204T220000
DTSTAMP:20260420T184425
CREATED:20210922T152847Z
LAST-MODIFIED:20210922T152847Z
UID:5991-1638644400-1638655200@www.dondisantis.com
SUMMARY:Chagrin River Pub
DESCRIPTION:Intimate little spot with outstanding food choices. Not your typical “bar” food by any means. Please join us at what has become one of our regular spots.
URL:https://www.dondisantis.com/event/chagrin-river-pub-5/
LOCATION:Chagrin River Pub\, 38464 Lakeshore Blvd.\, Willoughby\, OH\, 44094\, United States
END:VEVENT
BEGIN:VEVENT
DTSTART;TZID=America/Halifax:20211209T173000
DTEND;TZID=America/Halifax:20211209T200000
DTSTAMP:20260420T184425
CREATED:20211128T154034Z
LAST-MODIFIED:20211128T154034Z
UID:6227-1639071000-1639080000@www.dondisantis.com
SUMMARY:Private Holiday Party - Ferguson Showroom
DESCRIPTION:This is a private party for Ferguson Lighting.
URL:https://www.dondisantis.com/event/private-holiday-party-ferguson-showroom/
LOCATION:Fergusen Showroom\, 2441 Miles Road\, Warrensville Heights\, OH\, 44128\, United States
END:VEVENT
BEGIN:VEVENT
DTSTART;TZID=America/Halifax:20211210T200000
DTEND;TZID=America/Halifax:20211210T223000
DTSTAMP:20260420T184425
CREATED:20200210T173252Z
LAST-MODIFIED:20210611T154605Z
UID:3824-1639166400-1639175400@www.dondisantis.com
SUMMARY:Weymouth Country Club - Quad Dance - Private
DESCRIPTION:This is a private event for a dance club.
URL:https://www.dondisantis.com/event/weymouth-country-club-quad-dance-private-2/
LOCATION:Weymouth Country Club\, 3946 Weymouth Road\, Medina\, OH\, 44256\, United States
END:VEVENT
BEGIN:VEVENT
DTSTART;TZID=America/Halifax:20211218T070000
DTEND;TZID=America/Halifax:20211218T220000
DTSTAMP:20260420T184425
CREATED:20210624T134041Z
LAST-MODIFIED:20210624T134041Z
UID:5797-1639810800-1639864800@www.dondisantis.com
SUMMARY:Speak Of The Devil - Lorain
DESCRIPTION:One of our favorite spot is this Speakeasy Style pub in downtown Lorain. Great bar food and some fascinating specialty drinks prepared by Kurt. Always a fun time at Speak Of The Devil!
URL:https://www.dondisantis.com/event/speak-of-the-devil-lorain/
LOCATION:Speak Of The Devil\, 201 West 5th Street\, Lorain\, OH\, 44052\, United States
END:VEVENT
BEGIN:VEVENT
DTSTART;TZID=America/Halifax:20211231T183000
DTEND;TZID=America/Halifax:20211231T213000
DTSTAMP:20260420T184425
CREATED:20211128T154534Z
LAST-MODIFIED:20211128T155039Z
UID:6230-1640975400-1640986200@www.dondisantis.com
SUMMARY:Guarino's Little Italy - New Year's Celebration
DESCRIPTION:Join us for an early New Year’s Eve celebration at the historic Little Italy gem\, Guarino’s Italian Restaurant. We will be playing from 6:30 to 9:30 which gives you the opportunity to enjoy a fabulous meal\, listen to some great music and be home before too many “crazy’s” are on the road. MAKE RESERVATIONS to ensure you have a table.
URL:https://www.dondisantis.com/event/guarinos-little-italy-new-years-celebration/
LOCATION:Guarino’s\,  12309 Mayfield Rd \, Cleveland\, OH\, 440106\, United States
END:VEVENT
END:VCALENDAR