BEGIN:VCALENDAR
VERSION:2.0
PRODID:-//Don Disantis Home Page - ECPv6.6.4.2//NONSGML v1.0//EN
CALSCALE:GREGORIAN
METHOD:PUBLISH
X-ORIGINAL-URL:https://www.dondisantis.com
X-WR-CALDESC:Events for Don Disantis Home Page
REFRESH-INTERVAL;VALUE=DURATION:PT1H
X-Robots-Tag:noindex
X-PUBLISHED-TTL:PT1H
BEGIN:VTIMEZONE
TZID:UTC
BEGIN:STANDARD
TZOFFSETFROM:+0000
TZOFFSETTO:+0000
TZNAME:UTC
DTSTART:20230101T000000
END:STANDARD
TZID:America/Halifax
BEGIN:DAYLIGHT
TZOFFSETFROM:-0400
TZOFFSETTO:-0300
TZNAME:ADT
DTSTART:20230312T060000
END:DAYLIGHT
BEGIN:STANDARD
TZOFFSETFROM:-0300
TZOFFSETTO:-0400
TZNAME:AST
DTSTART:20231105T050000
END:STANDARD
END:VTIMEZONE
BEGIN:VEVENT
DTSTART;TZID=UTC:20230210T180000
DTEND;TZID=UTC:20230210T210000
DTSTAMP:20260421T045427
CREATED:20230122T152443Z
LAST-MODIFIED:20230122T152443Z
UID:7447-1676052000-1676062800@www.dondisantis.com
SUMMARY:Sinatra Valentine Tribute Show
DESCRIPTION:Join our quartet featuring Dave Coxe on keyboard\, Dennis Lawrence on drums\, Brian Dorr on bass with yours truly\, Don Disantis supplying the vocals. Many of the great songs Sinatra is still famous for will be on the agenda along with several other songs suitable for celebrating love and romance. Dinner at 6:00 with the show scheduled to begin at 7:00. Contact Moxie Events at 330-759-4570 or their Facebook page at ilovemoxieevents for more information and tickets.
URL:https://www.dondisantis.com/event/sinatra-valentine-tribute-show-3/
LOCATION:Red Maple Barn\, 600 Center Street\, Warren\, OH\, 44481\, United States
END:VEVENT
BEGIN:VEVENT
DTSTART;TZID=America/Halifax:20230214T110000
DTEND;TZID=America/Halifax:20230214T140000
DTSTAMP:20260421T045427
CREATED:20221223T154420Z
LAST-MODIFIED:20221223T154420Z
UID:7368-1676372400-1676383200@www.dondisantis.com
SUMMARY:St. Francis - 8th grade class - Private
DESCRIPTION:This is a private event for the grandparents of the 8th grade class at St. Francis of Assisi in Mayfield Heights.
URL:https://www.dondisantis.com/event/st-francis-8th-grade-class-private/
LOCATION:St. Francis of Assisi\, 6850 Mayfield Road\, Gates Mills\, OH\, 44140\, United States
END:VEVENT
BEGIN:VEVENT
DTSTART;TZID=UTC:20230225T170000
DTEND;TZID=UTC:20230225T210000
DTSTAMP:20260421T045427
CREATED:20230122T153939Z
LAST-MODIFIED:20230122T153939Z
UID:7451-1677344400-1677358800@www.dondisantis.com
SUMMARY:Mystery Theater - "How Sweet It Is"
DESCRIPTION:Join our Murder Mystery Troup for this fun filled evening of mayhem with opposing groups fighting over a secret chocolate formula! Before the show\, actors will present a “Cabaret” of songs for your enjoyment followed by the unfolding of the mystery. Cabaret and dinner will be at 5:00 with the show to begin at 6:00. Contact Moxie Events at 330-759-4570 or their Facebook page at ilovemoxieevents for more information and tickets.
URL:https://www.dondisantis.com/event/mystery-theater-how-sweet-it-is/
LOCATION:Red Maple Barn\, 600 Center Street\, Warren\, OH\, 44481\, United States
END:VEVENT
END:VCALENDAR