BEGIN:VCALENDAR
VERSION:2.0
PRODID:-//Don Disantis Home Page - ECPv6.6.4.2//NONSGML v1.0//EN
CALSCALE:GREGORIAN
METHOD:PUBLISH
X-ORIGINAL-URL:https://www.dondisantis.com
X-WR-CALDESC:Events for Don Disantis Home Page
REFRESH-INTERVAL;VALUE=DURATION:PT1H
X-Robots-Tag:noindex
X-PUBLISHED-TTL:PT1H
BEGIN:VTIMEZONE
TZID:America/Halifax
BEGIN:DAYLIGHT
TZOFFSETFROM:-0400
TZOFFSETTO:-0300
TZNAME:ADT
DTSTART:20230312T060000
END:DAYLIGHT
BEGIN:STANDARD
TZOFFSETFROM:-0300
TZOFFSETTO:-0400
TZNAME:AST
DTSTART:20231105T050000
END:STANDARD
END:VTIMEZONE
BEGIN:VEVENT
DTSTART;TZID=America/Halifax:20231103T060000
DTEND;TZID=America/Halifax:20231103T210000
DTSTAMP:20260423T090401
CREATED:20231022T151316Z
LAST-MODIFIED:20231022T151316Z
UID:8172-1698991200-1699045200@www.dondisantis.com
SUMMARY:Peter Allen Inn - Mystery Show
DESCRIPTION:Join our mystery troupe at the beautiful Peter Allen Inn and have some fun with the “Piccadilly Hillbillies”. This is an event sponsored by Moxie Events. Contact them at 330-759-4570 for tickets and information.
URL:https://www.dondisantis.com/event/peter-allen-inn-mystery-show/
LOCATION:Peter Allan Inn\, 8581 State Street\, Kinsman\, OH\, 44428\, United States
END:VEVENT
BEGIN:VEVENT
DTSTART;TZID=America/Halifax:20231104T080000
DTEND;TZID=America/Halifax:20231104T170000
DTSTAMP:20260423T090401
CREATED:20230810T185502Z
LAST-MODIFIED:20230810T185502Z
UID:8010-1699084800-1699117200@www.dondisantis.com
SUMMARY:Wickliffe IAC - Trevi Catering - Mystery Theater
DESCRIPTION:The Fitzpatrick’s and the Maranzano’s are at each others throats over who was responsible for Danny Boys “explosive” departure. The Irish against the Italians! What could possible go wrong.
URL:https://www.dondisantis.com/event/wickliffe-iac-trevi-catering-mystery-theater/
LOCATION:Trevi Catering\, 29717 Euclid Avenue\, Wickliffe\, 44092\, United States
END:VEVENT
BEGIN:VEVENT
DTSTART;TZID=America/Halifax:20231105T140000
DTEND;TZID=America/Halifax:20231105T160000
DTSTAMP:20260423T090401
CREATED:20230925T184939Z
LAST-MODIFIED:20230925T184939Z
UID:8082-1699192800-1699200000@www.dondisantis.com
SUMMARY:Private Event
DESCRIPTION:This is a private event for club members and guests.
URL:https://www.dondisantis.com/event/private-event-2/
LOCATION:Trevi Catering\, 29717 Euclid Avenue\, Wickliffe\, 44092\, United States
END:VEVENT
BEGIN:VEVENT
DTSTART;TZID=America/Halifax:20231111T080000
DTEND;TZID=America/Halifax:20231111T170000
DTSTAMP:20260423T090401
CREATED:20230810T190202Z
LAST-MODIFIED:20230810T190202Z
UID:8014-1699689600-1699722000@www.dondisantis.com
SUMMARY:Sinatra Show - Madison Square - Madison\, Ohio
DESCRIPTION:Join our full band as we pay tribute to one of the greatest crooners of all time.
URL:https://www.dondisantis.com/event/sinatra-show-madison-square-madison-ohio/
LOCATION:Madison Square\, Park Street\, Madison\, OH\, 44057\, United States
END:VEVENT
BEGIN:VEVENT
DTSTART;TZID=America/Halifax:20231117T180000
DTEND;TZID=America/Halifax:20231117T210000
DTSTAMP:20260423T090401
CREATED:20231114T200645Z
LAST-MODIFIED:20231114T200645Z
UID:8241-1700244000-1700254800@www.dondisantis.com
SUMMARY:Geneva-on-the-Lake - Mystery - Private
DESCRIPTION:Private event at the Lodge at Geneva-on-the-Lake.
URL:https://www.dondisantis.com/event/geneva-on-the-lake-mystery-private/
LOCATION:Geneva-On-The-Lake\, 4888 N. Broadway\, Geneva-On-The-Lake\, OH\, 44041\, United States
END:VEVENT
BEGIN:VEVENT
DTSTART;TZID=America/Halifax:20231118T153000
DTEND;TZID=America/Halifax:20231118T193000
DTSTAMP:20260423T090401
CREATED:20230701T150951Z
LAST-MODIFIED:20230701T150951Z
UID:7909-1700321400-1700335800@www.dondisantis.com
SUMMARY:Laurentia Winery
DESCRIPTION:A beautiful chalet awaits you at this classic winery in Madison. Join our trio while you enjoy tasty food preparations combined with excellent wine choices.
URL:https://www.dondisantis.com/event/laurentia-winery-26/
LOCATION:Laurentia Winery\, 4599 S. Madison Road\, Madison\, 44057
END:VEVENT
END:VCALENDAR