BEGIN:VCALENDAR
VERSION:2.0
PRODID:-//Don Disantis Home Page - ECPv6.6.4.2//NONSGML v1.0//EN
CALSCALE:GREGORIAN
METHOD:PUBLISH
X-WR-CALNAME:Don Disantis Home Page
X-ORIGINAL-URL:https://www.dondisantis.com
X-WR-CALDESC:Events for Don Disantis Home Page
REFRESH-INTERVAL;VALUE=DURATION:PT1H
X-Robots-Tag:noindex
X-PUBLISHED-TTL:PT1H
BEGIN:VTIMEZONE
TZID:America/Halifax
BEGIN:DAYLIGHT
TZOFFSETFROM:-0400
TZOFFSETTO:-0300
TZNAME:ADT
DTSTART:20250309T060000
END:DAYLIGHT
BEGIN:STANDARD
TZOFFSETFROM:-0300
TZOFFSETTO:-0400
TZNAME:AST
DTSTART:20251102T050000
END:STANDARD
END:VTIMEZONE
BEGIN:VEVENT
DTSTART;TZID=America/Halifax:20251004T180000
DTEND;TZID=America/Halifax:20251004T210000
DTSTAMP:20260420T115140
CREATED:20250723T185149Z
LAST-MODIFIED:20250723T185149Z
UID:10440-1759600800-1759611600@www.dondisantis.com
SUMMARY:Guarino's - Little Italy
DESCRIPTION:Join our trio at this historic location in Cleveland’s Little Italy. Guarino’s is the longest running restaurant in Cleveland with over 100 years of serving the public fantastic Italian meals.
URL:https://www.dondisantis.com/event/guarinos-little-italy-23/
LOCATION:Guarino’s\,  12309 Mayfield Rd \, Cleveland\, OH\, 440106\, United States
END:VEVENT
BEGIN:VEVENT
DTSTART;TZID=America/Halifax:20251018T190000
DTEND;TZID=America/Halifax:20251018T210000
DTSTAMP:20260420T115140
CREATED:20250828T130521Z
LAST-MODIFIED:20250828T130521Z
UID:10584-1760814000-1760821200@www.dondisantis.com
SUMMARY:Nuevo Modern Mexican - Private Event
DESCRIPTION:A private event for the International Code Council.
URL:https://www.dondisantis.com/event/nuevo-modern-mexican-private-event/
LOCATION:Nuevo Modern Mexican\, 1000 East 9th Street\, Cleveland\, OH\, 44114\, United States
END:VEVENT
BEGIN:VEVENT
DTSTART;TZID=America/Halifax:20251025T183000
DTEND;TZID=America/Halifax:20251025T213000
DTSTAMP:20260420T115140
CREATED:20241031T161531Z
LAST-MODIFIED:20241031T161531Z
UID:9253-1761417000-1761427800@www.dondisantis.com
SUMMARY:Lanning's Dean Martin Lounge
DESCRIPTION:Join our trio at this elegant lounge in Bath\, Ohio as we perform in The Dean Martin Lounge. What a great setting!
URL:https://www.dondisantis.com/event/lannings-dean-martin-lounge-23/
LOCATION:Lanning’s Dean Martin Lounge\, 826 North Cleveland-Massillon Road\, Bath\, OH\, 44333\, United States
END:VEVENT
END:VCALENDAR