BEGIN:VCALENDAR
VERSION:2.0
PRODID:-//Don Disantis Home Page - ECPv6.6.4.2//NONSGML v1.0//EN
CALSCALE:GREGORIAN
METHOD:PUBLISH
X-ORIGINAL-URL:https://www.dondisantis.com
X-WR-CALDESC:Events for Don Disantis Home Page
REFRESH-INTERVAL;VALUE=DURATION:PT1H
X-Robots-Tag:noindex
X-PUBLISHED-TTL:PT1H
BEGIN:VTIMEZONE
TZID:America/Halifax
BEGIN:DAYLIGHT
TZOFFSETFROM:-0400
TZOFFSETTO:-0300
TZNAME:ADT
DTSTART:20260308T060000
END:DAYLIGHT
BEGIN:STANDARD
TZOFFSETFROM:-0300
TZOFFSETTO:-0400
TZNAME:AST
DTSTART:20261101T050000
END:STANDARD
END:VTIMEZONE
BEGIN:VEVENT
DTSTART;TZID=America/Halifax:20260307T180000
DTEND;TZID=America/Halifax:20260307T210000
DTSTAMP:20260419T101552
CREATED:20251223T201923Z
LAST-MODIFIED:20251223T201923Z
UID:11113-1772906400-1772917200@www.dondisantis.com
SUMMARY:Guarino's - Little Italy
DESCRIPTION:Join our trio at this historic location in Cleveland’s Little Italy. Guarino’s is the longest running restaurant in Cleveland with over 100 years of serving the public fantastic Italian meals. Weather permitting\, we perform on their beautiful patio. If not\, we are inside at the lounge.
URL:https://www.dondisantis.com/event/guarinos-little-italy-30/
LOCATION:Guarino’s\,  12309 Mayfield Rd \, Cleveland\, OH\, 440106\, United States
END:VEVENT
BEGIN:VEVENT
DTSTART;TZID=America/Halifax:20260314T183000
DTEND;TZID=America/Halifax:20260314T213000
DTSTAMP:20260419T101552
CREATED:20251129T160731Z
LAST-MODIFIED:20251129T160731Z
UID:11002-1773513000-1773523800@www.dondisantis.com
SUMMARY:Peter Allen Inn - Mystery Show
DESCRIPTION:Join our cast at the picturesque Peter Allen Inn located in Kinsman\, Ohio as you try to figure out who killed poor Danny Boy Fitzpatrick.
URL:https://www.dondisantis.com/event/peter-allen-inn-mystery-show-3/
LOCATION:Peter Allan Inn\, 8581 State Street\, Kinsman\, OH\, 44428\, United States
END:VEVENT
BEGIN:VEVENT
DTSTART;TZID=America/Halifax:20260318T173000
DTEND;TZID=America/Halifax:20260318T203000
DTSTAMP:20260419T101552
CREATED:20260216T184448Z
LAST-MODIFIED:20260216T184448Z
UID:11288-1773855000-1773865800@www.dondisantis.com
SUMMARY:Sausalito in Kirtland
DESCRIPTION:Join our trio at this wonderful restaurant in the heart of Kirtland\, Ohio.
URL:https://www.dondisantis.com/event/sausalito-in-kirtland/
LOCATION:Sausalito Kirtland\, 9270 Chillicothe Road\, Kirtland\, OH\, 44094\, United States
END:VEVENT
BEGIN:VEVENT
DTSTART;TZID=America/Halifax:20260321T183000
DTEND;TZID=America/Halifax:20260321T213000
DTSTAMP:20260419T101552
CREATED:20260119T200922Z
LAST-MODIFIED:20260119T201333Z
UID:11211-1774117800-1774128600@www.dondisantis.com
SUMMARY:Wickliffe IAC - Mystery Dinner Theater
DESCRIPTION:When the Irish and the Italians get together at a funeral\, what could possibly go wrong!? Get your tickets\, you don’t want to miss this.
URL:https://www.dondisantis.com/event/wickliffe-iac-mystery-dinner-theater/
LOCATION:Trevi Catering\, 29717 Euclid Avenue\, Wickliffe\, 44092\, United States
END:VEVENT
BEGIN:VEVENT
DTSTART;TZID=America/Halifax:20260328T183000
DTEND;TZID=America/Halifax:20260328T213000
DTSTAMP:20260419T101552
CREATED:20251007T144412Z
LAST-MODIFIED:20251007T144412Z
UID:10751-1774722600-1774733400@www.dondisantis.com
SUMMARY:Lanning's
DESCRIPTION:Join our trio at this very classy restaurant in Bath\, Ohio.
URL:https://www.dondisantis.com/event/lannings-4/
LOCATION:Lanning’s Dean Martin Lounge\, 826 North Cleveland-Massillon Road\, Bath\, OH\, 44333\, United States
END:VEVENT
END:VCALENDAR