BEGIN:VCALENDAR
VERSION:2.0
PRODID:-//Don Disantis Home Page - ECPv6.6.4.2//NONSGML v1.0//EN
CALSCALE:GREGORIAN
METHOD:PUBLISH
X-ORIGINAL-URL:https://www.dondisantis.com
X-WR-CALDESC:Events for Don Disantis Home Page
REFRESH-INTERVAL;VALUE=DURATION:PT1H
X-Robots-Tag:noindex
X-PUBLISHED-TTL:PT1H
BEGIN:VTIMEZONE
TZID:America/Halifax
BEGIN:DAYLIGHT
TZOFFSETFROM:-0400
TZOFFSETTO:-0300
TZNAME:ADT
DTSTART:20260308T060000
END:DAYLIGHT
BEGIN:STANDARD
TZOFFSETFROM:-0300
TZOFFSETTO:-0400
TZNAME:AST
DTSTART:20261101T050000
END:STANDARD
END:VTIMEZONE
BEGIN:VEVENT
DTSTART;TZID=America/Halifax:20260509T180000
DTEND;TZID=America/Halifax:20260509T210000
DTSTAMP:20260420T115653
CREATED:20251223T202242Z
LAST-MODIFIED:20251223T202242Z
UID:11117-1778349600-1778360400@www.dondisantis.com
SUMMARY:Guarino's - Little Italy
DESCRIPTION:Join our trio at this historic location in Cleveland’s Little Italy. Guarino’s is the longest running restaurant in Cleveland with over 100 years of serving the public fantastic Italian meals. Weather permitting\, we perform on their beautiful patio. If not\, we are inside at the lounge.
URL:https://www.dondisantis.com/event/guarinos-little-italy-32/
LOCATION:Guarino’s\,  12309 Mayfield Rd \, Cleveland\, OH\, 440106\, United States
END:VEVENT
BEGIN:VEVENT
DTSTART;TZID=America/Halifax:20260513T173000
DTEND;TZID=America/Halifax:20260513T203000
DTSTAMP:20260420T115653
CREATED:20260216T184849Z
LAST-MODIFIED:20260216T184944Z
UID:11292-1778693400-1778704200@www.dondisantis.com
SUMMARY:Sausalito in Kirtland
DESCRIPTION:Join our trio at this wonderful restaurant in the heart of Kirtland\, Ohio.
URL:https://www.dondisantis.com/event/sausalito-in-kirtland-3/
LOCATION:Sausalito Kirtland\, 9270 Chillicothe Road\, Kirtland\, OH\, 44094\, United States
END:VEVENT
BEGIN:VEVENT
DTSTART;TZID=America/Halifax:20260520T180000
DTEND;TZID=America/Halifax:20260520T210000
DTSTAMP:20260420T115653
CREATED:20260208T155004Z
LAST-MODIFIED:20260208T155004Z
UID:11255-1779300000-1779310800@www.dondisantis.com
SUMMARY:Riverbend Hotel Lounge
DESCRIPTION:Our trio performs in the Lift Lounge overlooking Ashtabula Harbor at the Riverbend Hotel.
URL:https://www.dondisantis.com/event/riverbend-hotel-lounge/
LOCATION:Riverbend Hotel\, 533 Goodwill Drive\, Ashtabula\, OH\, 44004\, United States
END:VEVENT
BEGIN:VEVENT
DTSTART;TZID=America/Halifax:20260523T183000
DTEND;TZID=America/Halifax:20260523T213000
DTSTAMP:20260420T115653
CREATED:20251007T144720Z
LAST-MODIFIED:20251007T144720Z
UID:10755-1779561000-1779571800@www.dondisantis.com
SUMMARY:Lanning's
DESCRIPTION:Join our trio at this very classy restaurant in Bath\, Ohio.
URL:https://www.dondisantis.com/event/lannings-6/
LOCATION:Lanning’s Dean Martin Lounge\, 826 North Cleveland-Massillon Road\, Bath\, OH\, 44333\, United States
END:VEVENT
BEGIN:VEVENT
DTSTART;TZID=America/Halifax:20260529T180000
DTEND;TZID=America/Halifax:20260529T213000
DTSTAMP:20260420T115653
CREATED:20260407T161720Z
LAST-MODIFIED:20260407T161720Z
UID:11399-1780077600-1780090200@www.dondisantis.com
SUMMARY:Tiffan University - Private
DESCRIPTION:This is a private event for a fraternity at Tiffan University.
URL:https://www.dondisantis.com/event/tiffan-university-private/
LOCATION:Tiffan University – Marion Center\, 235 Miami Street\, Tiffan\, OH\, 44883\, United States
END:VEVENT
BEGIN:VEVENT
DTSTART;TZID=America/Halifax:20260530T190000
DTEND;TZID=America/Halifax:20260530T210000
DTSTAMP:20260420T115653
CREATED:20260407T162134Z
LAST-MODIFIED:20260407T162134Z
UID:11403-1780167600-1780174800@www.dondisantis.com
SUMMARY:Peter Allen Inn - Mystery
DESCRIPTION:Inspector Amit Patel\, the Sherlock Holms of India\, must solve the mystery surrounding the missing “Treasure of India”.
URL:https://www.dondisantis.com/event/peter-allen-inn-mystery-3/
LOCATION:Peter Allan Inn\, 8581 State Street\, Kinsman\, OH\, 44428\, United States
END:VEVENT
END:VCALENDAR