BEGIN:VCALENDAR
VERSION:2.0
PRODID:-//Don Disantis Home Page - ECPv6.6.4.2//NONSGML v1.0//EN
CALSCALE:GREGORIAN
METHOD:PUBLISH
X-WR-CALNAME:Don Disantis Home Page
X-ORIGINAL-URL:https://www.dondisantis.com
X-WR-CALDESC:Events for Don Disantis Home Page
REFRESH-INTERVAL;VALUE=DURATION:PT1H
X-Robots-Tag:noindex
X-PUBLISHED-TTL:PT1H
BEGIN:VTIMEZONE
TZID:America/Halifax
BEGIN:DAYLIGHT
TZOFFSETFROM:-0400
TZOFFSETTO:-0300
TZNAME:ADT
DTSTART:20260308T060000
END:DAYLIGHT
BEGIN:STANDARD
TZOFFSETFROM:-0300
TZOFFSETTO:-0400
TZNAME:AST
DTSTART:20261101T050000
END:STANDARD
END:VTIMEZONE
BEGIN:VEVENT
DTSTART;TZID=America/Halifax:20260606T180000
DTEND;TZID=America/Halifax:20260606T210000
DTSTAMP:20260422T124357
CREATED:20251223T202430Z
LAST-MODIFIED:20251223T202430Z
UID:11119-1780768800-1780779600@www.dondisantis.com
SUMMARY:Guarino's - Little Italy
DESCRIPTION:Join our trio at this historic location in Cleveland’s Little Italy. Guarino’s is the longest running restaurant in Cleveland with over 100 years of serving the public fantastic Italian meals. Weather permitting\, we perform on their beautiful patio. If not\, we are inside at the lounge.
URL:https://www.dondisantis.com/event/guarinos-little-italy-33/
LOCATION:Guarino’s\,  12309 Mayfield Rd \, Cleveland\, OH\, 440106\, United States
END:VEVENT
BEGIN:VEVENT
DTSTART;TZID=America/Halifax:20260617T080000
DTEND;TZID=America/Halifax:20260617T170000
DTSTAMP:20260422T124357
CREATED:20251219T173716Z
LAST-MODIFIED:20251219T173716Z
UID:11087-1781683200-1781715600@www.dondisantis.com
SUMMARY:Goodtime III - Great American Songbook Show
DESCRIPTION:Come aboard for an evening cruise and enjoy the music of the Great American Songbook presented by our six-piece band.
URL:https://www.dondisantis.com/event/goodtime-iii-great-american-songbook-show/
LOCATION:Goodtime III\, 825 East 9th Street Pier\, Cleveland\, OH\, 44094\, United States
END:VEVENT
BEGIN:VEVENT
DTSTART;TZID=America/Halifax:20260627T183000
DTEND;TZID=America/Halifax:20260627T213000
DTSTAMP:20260422T124357
CREATED:20251007T144859Z
LAST-MODIFIED:20251007T144859Z
UID:10757-1782585000-1782595800@www.dondisantis.com
SUMMARY:Lanning's
DESCRIPTION:Join our trio at this very classy restaurant in Bath\, Ohio.
URL:https://www.dondisantis.com/event/lannings-7/
LOCATION:Lanning’s Dean Martin Lounge\, 826 North Cleveland-Massillon Road\, Bath\, OH\, 44333\, United States
END:VEVENT
END:VCALENDAR